Package: casper Version: 2.45.0 Command: /home/biocbuild/bbs-3.23-bioc/R/bin/R CMD INSTALL casper StartedAt: 2025-11-20 15:41:40 -0500 (Thu, 20 Nov 2025) EndedAt: 2025-11-20 15:42:11 -0500 (Thu, 20 Nov 2025) EllapsedTime: 30.3 seconds RetCode: 1 Status: ERROR