Package: casper Version: 2.45.0 Command: /home/biocbuild/bbs-3.23-bioc/R/bin/R CMD build --keep-empty-dirs --no-resave-data casper StartedAt: 2025-11-20 16:37:47 -0500 (Thu, 20 Nov 2025) EndedAt: 2025-11-20 16:38:17 -0500 (Thu, 20 Nov 2025) EllapsedTime: 30.0 seconds RetCode: 1 Status: ERROR PackageFile: None PackageFileSize: NA