Package: casper Version: 2.43.1 Command: /Library/Frameworks/R.framework/Resources/bin/R CMD INSTALL casper StartedAt: 2025-10-24 15:43:28 -0400 (Fri, 24 Oct 2025) EndedAt: 2025-10-24 15:44:55 -0400 (Fri, 24 Oct 2025) EllapsedTime: 87.7 seconds RetCode: 0 Status: OK