Package: casper Version: 2.43.1 Command: /Library/Frameworks/R.framework/Resources/bin/R CMD INSTALL casper StartedAt: 2025-10-06 15:21:33 -0400 (Mon, 06 Oct 2025) EndedAt: 2025-10-06 15:21:57 -0400 (Mon, 06 Oct 2025) EllapsedTime: 24.1 seconds RetCode: 0 Status: OK