Package: casper Version: 2.43.1 Command: /Library/Frameworks/R.framework/Resources/bin/R CMD build --keep-empty-dirs --no-resave-data casper StartedAt: 2025-10-05 15:50:13 -0400 (Sun, 05 Oct 2025) EndedAt: 2025-10-05 15:50:43 -0400 (Sun, 05 Oct 2025) EllapsedTime: 30.4 seconds RetCode: 1 Status: ERROR PackageFile: None PackageFileSize: NA