Package: casper Version: 2.45.0 Maintainer: David Rossell MaintainerEmail: rosselldavid at gmail.com git_url: https://git.bioconductor.org/packages/casper git_branch: devel git_last_commit: 8f208d9 git_last_commit_date: 2025-10-29 10:13:21 -0400 (Wed, 29 Oct 2025)