Package: cardelino Version: 1.11.0 Command: /home/biocbuild/bbs-3.22-bioc/R/bin/R CMD INSTALL cardelino StartedAt: 2025-10-03 15:40:58 -0400 (Fri, 03 Oct 2025) EndedAt: 2025-10-03 15:41:45 -0400 (Fri, 03 Oct 2025) EllapsedTime: 46.3 seconds RetCode: 0 Status: OK