Package: cardelino Version: 1.11.0 Command: /home/biocbuild/bbs-3.22-bioc/R/bin/R CMD build --keep-empty-dirs --no-resave-data --md5 cardelino StartedAt: 2025-10-03 16:34:53 -0400 (Fri, 03 Oct 2025) EndedAt: 2025-10-03 16:36:18 -0400 (Fri, 03 Oct 2025) EllapsedTime: 85.1 seconds RetCode: 0 Status: OK PackageFile: cardelino_1.11.0.tar.gz PackageFileSize: 3.65 MiB