Package: cancerclass Version: 1.53.0 Command: /home/biocbuild/bbs-3.22-bioc/R/bin/R CMD build --keep-empty-dirs --no-resave-data --md5 cancerclass StartedAt: 2025-10-05 16:35:22 -0400 (Sun, 05 Oct 2025) EndedAt: 2025-10-05 16:35:46 -0400 (Sun, 05 Oct 2025) EllapsedTime: 24.0 seconds RetCode: 0 Status: OK PackageFile: cancerclass_1.53.0.tar.gz PackageFileSize: 1.526 MiB