Package: canceR Version: 1.43.0 Command: /home/biocbuild/R/R/bin/R CMD INSTALL canceR StartedAt: 2025-10-20 21:05:35 -0000 (Mon, 20 Oct 2025) EndedAt: 2025-10-20 21:07:26 -0000 (Mon, 20 Oct 2025) EllapsedTime: 110.4 seconds RetCode: 0 Status: OK