Package: canceR Version: 1.43.0 Command: /home/biocbuild/R/R/bin/R CMD build --keep-empty-dirs --no-resave-data canceR StartedAt: 2025-10-20 22:28:05 -0000 (Mon, 20 Oct 2025) EndedAt: 2025-10-20 22:30:07 -0000 (Mon, 20 Oct 2025) EllapsedTime: 122.0 seconds RetCode: 0 Status: OK PackageFile: canceR_1.43.0.tar.gz PackageFileSize: 31.48 MiB