Package: canceR Version: 1.45.0 Command: /home/biocbuild/bbs-3.23-bioc/R/bin/R CMD INSTALL canceR StartedAt: 2025-11-20 15:57:48 -0500 (Thu, 20 Nov 2025) EndedAt: 2025-11-20 15:59:09 -0500 (Thu, 20 Nov 2025) EllapsedTime: 81.2 seconds RetCode: 0 Status: OK