Package: canceR Version: 1.45.0 Command: /home/biocbuild/bbs-3.23-bioc/R/bin/R CMD build --keep-empty-dirs --no-resave-data canceR StartedAt: 2025-11-20 16:36:51 -0500 (Thu, 20 Nov 2025) EndedAt: 2025-11-20 16:38:22 -0500 (Thu, 20 Nov 2025) EllapsedTime: 91.1 seconds RetCode: 0 Status: OK PackageFile: canceR_1.45.0.tar.gz PackageFileSize: 31.46 MiB