Package: canceR Version: 1.43.0 Command: /Library/Frameworks/R.framework/Resources/bin/R CMD INSTALL canceR StartedAt: 2025-10-12 15:41:01 -0400 (Sun, 12 Oct 2025) EndedAt: 2025-10-12 15:43:18 -0400 (Sun, 12 Oct 2025) EllapsedTime: 136.8 seconds RetCode: 0 Status: OK