Package: calm Version: 1.25.0 Command: /home/biocbuild/bbs-3.23-bioc/R/bin/R CMD INSTALL calm StartedAt: 2025-11-02 15:16:57 -0500 (Sun, 02 Nov 2025) EndedAt: 2025-11-02 15:17:14 -0500 (Sun, 02 Nov 2025) EllapsedTime: 18.0 seconds RetCode: 0 Status: OK