Package: calm Version: 1.25.0 Command: /home/biocbuild/bbs-3.23-bioc/R/bin/R CMD build --keep-empty-dirs --no-resave-data calm StartedAt: 2025-11-03 16:34:29 -0500 (Mon, 03 Nov 2025) EndedAt: 2025-11-03 16:36:27 -0500 (Mon, 03 Nov 2025) EllapsedTime: 118.1 seconds RetCode: 0 Status: OK PackageFile: calm_1.25.0.tar.gz PackageFileSize: 394.2 KiB