Package: calm Version: 1.23.0 Command: /Library/Frameworks/R.framework/Resources/bin/R CMD INSTALL calm StartedAt: 2025-10-05 15:13:00 -0400 (Sun, 05 Oct 2025) EndedAt: 2025-10-05 15:13:34 -0400 (Sun, 05 Oct 2025) EllapsedTime: 34.3 seconds RetCode: 0 Status: OK