Package: calm Version: 1.23.0 Command: /Library/Frameworks/R.framework/Resources/bin/R CMD build --keep-empty-dirs --no-resave-data calm StartedAt: 2025-10-05 16:16:58 -0400 (Sun, 05 Oct 2025) EndedAt: 2025-10-05 16:19:20 -0400 (Sun, 05 Oct 2025) EllapsedTime: 141.8 seconds RetCode: 0 Status: OK PackageFile: calm_1.23.0.tar.gz PackageFileSize: 397.3 KiB