Package: cageminer Version: 1.17.0 Command: /home/biocbuild/bbs-3.23-bioc/R/bin/R CMD INSTALL cageminer StartedAt: 2025-11-20 15:46:36 -0500 (Thu, 20 Nov 2025) EndedAt: 2025-11-20 15:47:30 -0500 (Thu, 20 Nov 2025) EllapsedTime: 54.1 seconds RetCode: 0 Status: OK