Package: cageminer Version: 1.15.2 Command: /Library/Frameworks/R.framework/Resources/bin/R CMD INSTALL cageminer StartedAt: 2025-10-24 15:28:26 -0400 (Fri, 24 Oct 2025) EndedAt: 2025-10-24 15:28:48 -0400 (Fri, 24 Oct 2025) EllapsedTime: 22.4 seconds RetCode: 0 Status: OK