Package: cageminer Version: 1.15.2 Command: rm -rf cageminer.buildbin-libdir && mkdir cageminer.buildbin-libdir && /Users/biocbuild/BBS/utils/build-universal.sh cageminer_1.15.2.tar.gz /Library/Frameworks/R.framework/Resources/bin/R cageminer.buildbin-libdir StartedAt: 2025-10-23 23:02:47 -0400 (Thu, 23 Oct 2025) EndedAt: 2025-10-23 23:03:11 -0400 (Thu, 23 Oct 2025) EllapsedTime: 24.5 seconds RetCode: 0 Status: OK PackageFile: cageminer_1.15.2.tgz PackageFileSize: 1.454 MiB