Package: cTRAP Version: 1.27.0 Command: /home/biocbuild/R/R/bin/R CMD INSTALL cTRAP StartedAt: 2025-10-13 21:21:28 -0000 (Mon, 13 Oct 2025) EndedAt: 2025-10-13 21:22:07 -0000 (Mon, 13 Oct 2025) EllapsedTime: 39.1 seconds RetCode: 0 Status: OK