Package: cTRAP Version: 1.27.0 Command: chmod a+r cTRAP -R && F:\biocbuild\bbs-3.22-bioc\R\bin\R.exe CMD build --keep-empty-dirs --no-resave-data cTRAP StartedAt: 2025-08-14 19:24:17 -0400 (Thu, 14 Aug 2025) EndedAt: 2025-08-14 19:33:30 -0400 (Thu, 14 Aug 2025) EllapsedTime: 553.7 seconds RetCode: 0 Status: OK PackageFile: cTRAP_1.27.0.tar.gz PackageFileSize: 3.946 MiB