Package: cTRAP Version: 1.27.0 Command: rm -rf cTRAP.buildbin-libdir && mkdir cTRAP.buildbin-libdir && F:\biocbuild\bbs-3.22-bioc\R\bin\R.exe CMD INSTALL --build --library=cTRAP.buildbin-libdir cTRAP_1.27.0.tar.gz StartedAt: 2025-08-15 10:03:53 -0400 (Fri, 15 Aug 2025) EndedAt: 2025-08-15 10:05:04 -0400 (Fri, 15 Aug 2025) EllapsedTime: 71.4 seconds RetCode: 0 Status: OK PackageFile: cTRAP_1.27.0.zip PackageFileSize: 5.041 MiB