Package: cTRAP Version: 1.27.0 Command: /home/biocbuild/bbs-3.22-bioc/R/bin/R CMD check --install=check:cTRAP.install-out.txt --library=/home/biocbuild/bbs-3.22-bioc/R/site-library --timings cTRAP_1.27.0.tar.gz StartedAt: 2025-10-13 22:57:05 -0400 (Mon, 13 Oct 2025) EndedAt: 2025-10-13 23:14:34 -0400 (Mon, 13 Oct 2025) EllapsedTime: 1049.3 seconds RetCode: 0 Status: OK CheckDir: cTRAP.Rcheck Warnings: 0