Package: cTRAP Version: 1.29.0 Command: /home/biocbuild/bbs-3.23-bioc/R/bin/R CMD INSTALL cTRAP StartedAt: 2025-11-05 15:44:52 -0500 (Wed, 05 Nov 2025) EndedAt: 2025-11-05 15:45:22 -0500 (Wed, 05 Nov 2025) EllapsedTime: 30.1 seconds RetCode: 0 Status: OK