Package: cTRAP Version: 1.29.0 Command: /home/biocbuild/bbs-3.23-bioc/R/bin/R CMD build --keep-empty-dirs --no-resave-data cTRAP StartedAt: 2025-11-05 17:08:29 -0500 (Wed, 05 Nov 2025) EndedAt: 2025-11-05 17:11:27 -0500 (Wed, 05 Nov 2025) EllapsedTime: 178.2 seconds RetCode: 0 Status: OK PackageFile: cTRAP_1.29.0.tar.gz PackageFileSize: 5.146 MiB