Package: cBioPortalData Version: 2.21.5 Command: /home/biocbuild/R/R/bin/R CMD INSTALL cBioPortalData StartedAt: 2025-10-13 21:29:12 -0000 (Mon, 13 Oct 2025) EndedAt: 2025-10-13 21:30:05 -0000 (Mon, 13 Oct 2025) EllapsedTime: 52.4 seconds RetCode: 0 Status: OK