Package: cBioPortalData Version: 2.21.5 Command: /home/biocbuild/bbs-3.22-bioc/R/bin/R CMD check --install=check:cBioPortalData.install-out.txt --library=/home/biocbuild/bbs-3.22-bioc/R/site-library --timings cBioPortalData_2.21.5.tar.gz StartedAt: 2025-10-15 22:28:22 -0400 (Wed, 15 Oct 2025) EndedAt: 2025-10-15 22:36:06 -0400 (Wed, 15 Oct 2025) EllapsedTime: 463.5 seconds RetCode: 0 Status: OK CheckDir: cBioPortalData.Rcheck Warnings: 0