Package: cBioPortalData Version: 2.23.0 Command: /home/biocbuild/bbs-3.23-bioc/R/bin/R CMD INSTALL cBioPortalData StartedAt: 2025-11-05 15:51:00 -0500 (Wed, 05 Nov 2025) EndedAt: 2025-11-05 15:51:13 -0500 (Wed, 05 Nov 2025) EllapsedTime: 13.3 seconds RetCode: 1 Status: ERROR