Package: cBioPortalData Version: 2.23.0 Command: /home/biocbuild/bbs-3.23-bioc/R/bin/R CMD build --keep-empty-dirs --no-resave-data cBioPortalData StartedAt: 2025-11-05 16:44:01 -0500 (Wed, 05 Nov 2025) EndedAt: 2025-11-05 16:44:15 -0500 (Wed, 05 Nov 2025) EllapsedTime: 14.0 seconds RetCode: 1 Status: ERROR PackageFile: None PackageFileSize: NA