############################################################################## ############################################################################## ### ### Running command: ### ### /home/biocbuild/bbs-3.23-bioc/R/bin/R CMD build --keep-empty-dirs --no-resave-data cBioPortalData ### ############################################################################## ############################################################################## * checking for file ‘cBioPortalData/DESCRIPTION’ ... OK * preparing ‘cBioPortalData’: * checking DESCRIPTION meta-information ... OK * installing the package (it is needed to build vignettes) ----------------------------------- * installing *source* package ‘cBioPortalData’ ... ** this is package ‘cBioPortalData’ version ‘2.23.0’ ** using staged installation ** R ** inst ** byte-compile and prepare package for lazy loading Error: object ‘microRNAs’ is not exported by 'namespace:GenomicFeatures' Execution halted ERROR: lazy loading failed for package ‘cBioPortalData’ * removing ‘/tmp/RtmpmFusEM/Rinst2143a2a358dbb/cBioPortalData’ ----------------------------------- ERROR: package installation failed