Back to Build/check report for BioC 3.23:   simplified   long
AB[C]DEFGHIJKLMNOPQRSTUVWXYZ

This page was generated on 2025-11-05 11:32 -0500 (Wed, 05 Nov 2025).

HostnameOSArch (*)R versionInstalled pkgs
nebbiolo1Linux (Ubuntu 24.04.3 LTS)x86_64R Under development (unstable) (2025-10-20 r88955) -- "Unsuffered Consequences" 4818
Click on any hostname to see more info about the system (e.g. compilers)      (*) as reported by 'uname -p', except on Windows and Mac OS X

All results for package cBioPortalData


To the developers/maintainers of the cBioPortalData package:
- Allow up to 24 hours (and sometimes 48 hours) for your latest push to git@git.bioconductor.org:packages/cBioPortalData.git to reflect on this report. See Troubleshooting Build Report for more information.
- Use the following Renviron settings to reproduce errors and warnings.
- If 'R CMD check' started to fail recently on the Linux builder(s) over a missing dependency, add the missing dependency to 'Suggests:' in your DESCRIPTION file. See Renviron.bioc for more information.

raw results

Package 286/2323HostnameOS / ArchINSTALLBUILDCHECKBUILD BIN
cBioPortalData 2.23.0  (landing page)
Marcel Ramos
Snapshot Date: 2025-11-04 13:40 -0500 (Tue, 04 Nov 2025)
git_url: https://git.bioconductor.org/packages/cBioPortalData
git_branch: devel
git_last_commit: eaed633
git_last_commit_date: 2025-10-29 10:59:37 -0500 (Wed, 29 Oct 2025)
nebbiolo1Linux (Ubuntu 24.04.3 LTS) / x86_64  ERROR    ERROR  skipped



Results for Bioconductor software packages that depend directly on package cBioPortalData

QUICK STATSOS / ArchINSTALLBUILDCHECKBUILD BIN
nebbiolo1Linux (Ubuntu 24.04.3 LTS) / x86_64
040
040
0000
Package 1/4HostnameOS / ArchINSTALLBUILDCHECKBUILD BIN
bioCancer 1.39.0  (landing page)
Karim Mezhoud
git_last_commit: 45dcc83
git_last_commit_date: 2025-10-29 10:32:26 -0500
nebbiolo1Linux (Ubuntu 24.04.3 LTS) / x86_64  ERROR    ERROR  skipped
Package 2/4HostnameOS / ArchINSTALLBUILDCHECKBUILD BIN
canceR 1.45.0  (landing page)
Karim Mezhoud
git_last_commit: 2ab2bd4
git_last_commit_date: 2025-10-29 10:24:23 -0500
nebbiolo1Linux (Ubuntu 24.04.3 LTS) / x86_64  ERROR    ERROR  skipped
Package 3/4HostnameOS / ArchINSTALLBUILDCHECKBUILD BIN
cbaf 1.33.0  (landing page)
Arman Shahrisa
git_last_commit: a0e1959
git_last_commit_date: 2025-10-29 10:41:05 -0500
nebbiolo1Linux (Ubuntu 24.04.3 LTS) / x86_64  ERROR    ERROR  skipped
Package 4/4HostnameOS / ArchINSTALLBUILDCHECKBUILD BIN
GNOSIS 1.9.0  (landing page)
Lydia King
git_last_commit: 507e621
git_last_commit_date: 2025-10-29 11:26:22 -0500
nebbiolo1Linux (Ubuntu 24.04.3 LTS) / x86_64  ERROR    ERROR  skipped