Package: bumphunter Version: 1.53.0 Command: /home/biocbuild/bbs-3.23-bioc/R/bin/R CMD INSTALL bumphunter StartedAt: 2025-11-14 15:42:11 -0500 (Fri, 14 Nov 2025) EndedAt: 2025-11-14 15:42:46 -0500 (Fri, 14 Nov 2025) EllapsedTime: 34.3 seconds RetCode: 0 Status: OK