Package: bumphunter Version: 1.53.0 Command: /home/biocbuild/bbs-3.23-bioc/R/bin/R CMD build --keep-empty-dirs --no-resave-data bumphunter StartedAt: 2025-11-14 16:35:05 -0500 (Fri, 14 Nov 2025) EndedAt: 2025-11-14 16:35:54 -0500 (Fri, 14 Nov 2025) EllapsedTime: 49.0 seconds RetCode: 0 Status: OK PackageFile: bumphunter_1.53.0.tar.gz PackageFileSize: 2.366 MiB