Package: bugsigdbr Version: 1.15.3 Command: /Library/Frameworks/R.framework/Resources/bin/R CMD INSTALL bugsigdbr StartedAt: 2025-10-08 15:15:51 -0400 (Wed, 08 Oct 2025) EndedAt: 2025-10-08 15:16:28 -0400 (Wed, 08 Oct 2025) EllapsedTime: 36.7 seconds RetCode: 0 Status: OK