Package: bugsigdbr Version: 1.15.3 Command: rm -rf bugsigdbr.buildbin-libdir && mkdir bugsigdbr.buildbin-libdir && /Users/biocbuild/BBS/utils/build-universal.sh bugsigdbr_1.15.3.tar.gz /Library/Frameworks/R.framework/Resources/bin/R bugsigdbr.buildbin-libdir StartedAt: 2025-10-09 02:22:21 -0400 (Thu, 09 Oct 2025) EndedAt: 2025-10-09 02:22:28 -0400 (Thu, 09 Oct 2025) EllapsedTime: 7.0 seconds RetCode: 0 Status: OK PackageFile: bugsigdbr_1.15.3.tgz PackageFileSize: 360.6 KiB