Package: bugsigdbr Version: 1.15.3 Command: /Library/Frameworks/R.framework/Resources/bin/R CMD INSTALL bugsigdbr StartedAt: 2025-09-28 15:07:26 -0400 (Sun, 28 Sep 2025) EndedAt: 2025-09-28 15:07:30 -0400 (Sun, 28 Sep 2025) EllapsedTime: 4.3 seconds RetCode: 0 Status: OK