Package: bugsigdbr Version: 1.15.3 Command: /Library/Frameworks/R.framework/Resources/bin/R CMD build --keep-empty-dirs --no-resave-data bugsigdbr StartedAt: 2025-09-29 15:47:56 -0400 (Mon, 29 Sep 2025) EndedAt: 2025-09-29 15:48:17 -0400 (Mon, 29 Sep 2025) EllapsedTime: 21.3 seconds RetCode: 0 Status: OK PackageFile: bugsigdbr_1.15.3.tar.gz PackageFileSize: 328.3 KiB