Package: bugsigdbr Version: 1.15.3 Maintainer: Ludwig Geistlinger MaintainerEmail: ludwig.geistlinger at gmail.com git_url: https://git.bioconductor.org/packages/bugsigdbr git_branch: devel git_last_commit: 864c884 git_last_commit_date: 2025-05-29 12:59:55 -0400 (Thu, 29 May 2025)