Package: bsseq Version: 1.47.1 Command: /home/biocbuild/bbs-3.23-bioc/R/bin/R CMD INSTALL bsseq StartedAt: 2025-11-05 15:42:15 -0500 (Wed, 05 Nov 2025) EndedAt: 2025-11-05 15:43:21 -0500 (Wed, 05 Nov 2025) EllapsedTime: 66.1 seconds RetCode: 0 Status: OK