Package: bsseq Version: 1.47.1 Command: /home/biocbuild/bbs-3.23-bioc/R/bin/R CMD build --keep-empty-dirs --no-resave-data bsseq StartedAt: 2025-11-05 16:40:01 -0500 (Wed, 05 Nov 2025) EndedAt: 2025-11-05 16:42:37 -0500 (Wed, 05 Nov 2025) EllapsedTime: 156.1 seconds RetCode: 0 Status: OK PackageFile: bsseq_1.47.1.tar.gz PackageFileSize: 2.938 MiB