Package: bsseq Version: 1.45.2 Command: /Library/Frameworks/R.framework/Resources/bin/R CMD INSTALL bsseq StartedAt: 2025-10-06 15:27:45 -0400 (Mon, 06 Oct 2025) EndedAt: 2025-10-06 15:29:12 -0400 (Mon, 06 Oct 2025) EllapsedTime: 87.3 seconds RetCode: 0 Status: OK