Package: bsseq Version: 1.45.2 Command: /Library/Frameworks/R.framework/Resources/bin/R CMD build --keep-empty-dirs --no-resave-data bsseq StartedAt: 2025-10-06 16:15:28 -0400 (Mon, 06 Oct 2025) EndedAt: 2025-10-06 16:18:11 -0400 (Mon, 06 Oct 2025) EllapsedTime: 163.5 seconds RetCode: 0 Status: OK PackageFile: bsseq_1.45.2.tar.gz PackageFileSize: 2.95 MiB