Package: bsseq Version: 1.45.2 Command: rm -rf bsseq.buildbin-libdir && mkdir bsseq.buildbin-libdir && /Users/biocbuild/BBS/utils/build-universal.sh bsseq_1.45.2.tar.gz /Library/Frameworks/R.framework/Resources/bin/R bsseq.buildbin-libdir StartedAt: 2025-10-07 02:00:38 -0400 (Tue, 07 Oct 2025) EndedAt: 2025-10-07 02:01:55 -0400 (Tue, 07 Oct 2025) EllapsedTime: 77.1 seconds RetCode: 0 Status: OK PackageFile: bsseq_1.45.2.tgz PackageFileSize: 3.786 MiB