Package: bsseq Version: 1.45.4 Maintainer: Kasper Daniel Hansen MaintainerEmail: kasperdanielhansen at gmail.com git_url: https://git.bioconductor.org/packages/bsseq git_branch: devel git_last_commit: 8be0d51 git_last_commit_date: 2025-10-10 11:22:10 -0400 (Fri, 10 Oct 2025)