Package: broadSeq Version: 1.5.0 Command: /home/biocbuild/bbs-3.23-bioc/R/bin/R CMD INSTALL broadSeq StartedAt: 2025-11-05 15:55:15 -0500 (Wed, 05 Nov 2025) EndedAt: 2025-11-05 15:55:54 -0500 (Wed, 05 Nov 2025) EllapsedTime: 38.4 seconds RetCode: 0 Status: OK