Package: broadSeq Version: 1.5.0 Command: /home/biocbuild/bbs-3.23-bioc/R/bin/R CMD build --keep-empty-dirs --no-resave-data broadSeq StartedAt: 2025-11-05 16:39:39 -0500 (Wed, 05 Nov 2025) EndedAt: 2025-11-05 16:42:02 -0500 (Wed, 05 Nov 2025) EllapsedTime: 143.1 seconds RetCode: 0 Status: OK PackageFile: broadSeq_1.5.0.tar.gz PackageFileSize: 4.222 MiB