Package: broadSeq Version: 1.3.3 Command: /Library/Frameworks/R.framework/Resources/bin/R CMD INSTALL broadSeq StartedAt: 2025-09-30 15:42:45 -0400 (Tue, 30 Sep 2025) EndedAt: 2025-09-30 15:43:40 -0400 (Tue, 30 Sep 2025) EllapsedTime: 55.1 seconds RetCode: 0 Status: OK