Package: broadSeq Version: 1.3.3 Command: /Library/Frameworks/R.framework/Resources/bin/R CMD build --keep-empty-dirs --no-resave-data broadSeq StartedAt: 2025-10-01 16:14:26 -0400 (Wed, 01 Oct 2025) EndedAt: 2025-10-01 16:17:14 -0400 (Wed, 01 Oct 2025) EllapsedTime: 168.0 seconds RetCode: 0 Status: OK PackageFile: broadSeq_1.3.3.tar.gz PackageFileSize: 4.179 MiB